BEGIN:VCALENDAR
VERSION:2.0
PRODID:-//wp-events-plugin.com//6.6.4.4//EN
TZID:Europe/Paris
X-WR-TIMEZONE:Europe/Paris
BEGIN:VEVENT
UID:792@atelierdu8.fr
DTSTART;TZID=Europe/Paris:20260529T203000
DTEND;TZID=Europe/Paris:20260529T223000
DTSTAMP:20260421T223528Z
URL:https://www.atelierdu8.fr/events/nos-futurs-la-piece-improvisee-3/
SUMMARY:Nos futurs\, la pièce improvisée
DESCRIPTION:Lorsqu'un événement\, heureux ou non\, vient bouleverser votr
 e vie\, comment réagissez-vous ? On dit que l'inconnu fait peur\, mais on
  dit aussi que des ressources insoupçonnées émergent face au changement
 \, alors que croire ?\nSi vous aviez la possibilité de voir un court inst
 ant les différents futurs qui s'offrent à vous\, lequel choisiriez-vou
 s ?\nDans cette pièce totalement improvisée\, cinq comédiens tenteront 
 de répondre à toutes ces questions et exploreront leurs futurs grâce 
 à VOS indications...\n\nBilleterie à venir sur HelloAsso.
ATTACH;FMTTYPE=image/jpeg:https://www.atelierdu8.fr/wp-content/uploads/202
 6/04/NOS-FUTURS-POIVRESEL.png
CATEGORIES:Improvisation,Spectacle
LOCATION:Atelier du 8\, 2 raymond Bank\, Grenoble\, 38000\, France
X-APPLE-STRUCTURED-LOCATION;VALUE=URI;X-ADDRESS=2 raymond Bank\, Grenoble\,
  38000\, France;X-APPLE-RADIUS=100;X-TITLE=Atelier du 8:geo:0,0
END:VEVENT
BEGIN:VTIMEZONE
TZID:Europe/Paris
X-LIC-LOCATION:Europe/Paris
BEGIN:DAYLIGHT
DTSTART:20260329T030000
TZOFFSETFROM:+0100
TZOFFSETTO:+0200
TZNAME:CEST
END:DAYLIGHT
END:VTIMEZONE
END:VCALENDAR