BEGIN:VCALENDAR
VERSION:2.0
PRODID:-//wp-events-plugin.com//6.6.4.4//EN
TZID:Europe/Paris
X-WR-TIMEZONE:Europe/Paris
BEGIN:VEVENT
UID:764@atelierdu8.fr
DTSTART;TZID=Europe/Paris:20260320T203000
DTEND;TZID=Europe/Paris:20260320T220000
DTSTAMP:20260318T083558Z
URL:https://www.atelierdu8.fr/events/lig-20-03-2026/
SUMMARY:Catch impro Les Brûleurs de Mots - LIG
DESCRIPTION:2 duos vont s'affronter lors de courtes scènes pour un catch i
 mpro !\n\nMené de main de maître par un arbitre intransigeant.\n\nHumour
 \, émotion et belles histoires seront au rendez-vous. C'est vous Public q
 ui voterez à la fin de la soirée pour votre duo préféré.\n\nOuverture
  des portes à 20h\n\nBilletterie HelloAsso : Catch impro des Brûleurs d
 e mots
ATTACH;FMTTYPE=image/jpeg:https://www.atelierdu8.fr/wp-content/uploads/202
 6/02/AFFICHE-BDM-3.png
CATEGORIES:Improvisation,Spectacle
LOCATION:Atelier du 8\, 2 raymond Bank\, Grenoble\, 38000\, France
X-APPLE-STRUCTURED-LOCATION;VALUE=URI;X-ADDRESS=2 raymond Bank\, Grenoble\,
  38000\, France;X-APPLE-RADIUS=100;X-TITLE=Atelier du 8:geo:0,0
END:VEVENT
BEGIN:VTIMEZONE
TZID:Europe/Paris
X-LIC-LOCATION:Europe/Paris
BEGIN:STANDARD
DTSTART:20251026T020000
TZOFFSETFROM:+0200
TZOFFSETTO:+0100
TZNAME:CET
END:STANDARD
END:VTIMEZONE
END:VCALENDAR