BEGIN:VCALENDAR
VERSION:2.0
PRODID:-//wp-events-plugin.com//6.6.4.4//EN
TZID:Europe/Paris
X-WR-TIMEZONE:Europe/Paris
BEGIN:VEVENT
UID:783@atelierdu8.fr
DTSTART;TZID=Europe/Paris:20260531T170000
DTEND;TZID=Europe/Paris:20260531T190000
DTSTAMP:20260422T055533Z
URL:https://www.atelierdu8.fr/events/kilt-ou-double-les-mopassanski-6/
SUMMARY:Kilt ou Double - Les Mopassanski
DESCRIPTION:Londres\, Août 1935. Au théâtre\, Richard Hannay fait la con
 naissance de la mystérieuse Annabella. Elle lui révèle l'existence d'un
  complot international mettant en danger tout le pays ! Bien qu'innocent\,
  Hannay se retrouve accusé de meutre. Devenu l'homme à abattre\, il n'a 
 plus qu'une seule solution : se lancer dans une course effreinée à trave
 rs l'Angleterre et l'Ecosse pour démasquer les vrais coupables... Parvien
 dra-t-il à sauver le Royaume ? Et qui tire les ficelles de cette terrible
  machination ?\n\nVous le découvrirez en venant voir le nouveau spectacle
  d'aventures en technicolor de la Cie Les Mopassanski : Kilt ou Double !\n
 \n\nPréparez-vous pour de l'aventure et pour une avalanche de gags\, de p
 ersonnages cartoonesques et de cascades...\n\n\nLes représentations préc
 édentes se sont jouées à guichet fermé : la réservation est obligatoi
 re.\n\nPour tout public à partir de 7 ans.\n\n\nAvec :\nNicolas Ricard\nM
 arie Astrid Dutoit\nGaëlle Olivera Silvera\n\n\nJeff Nowakowski\nRégie s
 on &amp\; lumière :\n\n\nCharles Vlimant\nMise en scène :\n\n\n\n\nJeff 
 Nowakowski\n\n\nRemerciements : Harris Tweed\, London\n\n\n\n\n\n\nProduct
 ion :\n\n\n\nThe Company Les Mopassanski &amp\; L'Atelier du 8\n\n\n\nGren
 oble Culture Mag : "Avec leur style caractéristique\, les Mopassanski son
 t de retour pour du cinéma sur scène\, à 200 à l'heure... Attachez vos
  ceintures !"\n\n\nLa plume sans le masque : "Le nouveau blockbuster de th
 éâtre signé Mopassanski : à ne surtout pas rater !"\n\nLes Affiches : 
 "Un hommage à l'Age d'Or du cinéma Hollywoodien et du cartoon. Remarquab
 le !"\n\nL'Officiel des Spectacles : "Entre Indiana Jones et Mission Impos
 sible\, une pièce bourrée d'idées et d'action qui emporte tout sur son 
 passage. Pour petits et grands."\n\nDimanche 31 Mai à 17 h (ouverture des
  portes dès 16 h 45).\n\n\n\nLa représentation sera suivie d'un pot : l'
 occasion de rencontrer et d'échanger avec les artistes !\n\nRéservations
  obligatoires sur Kilt ou Double.\n\n \n\n 
ATTACH;FMTTYPE=image/jpeg:https://www.atelierdu8.fr/wp-content/uploads/202
 6/04/Kilt-ou-Double-310526-rotated.jpg
CATEGORIES:Adolescents,Adultes,Enfants,Spectacle,Théâtre
LOCATION:Atelier du 8\, 2 raymond Bank\, Grenoble\, 38000\, France
X-APPLE-STRUCTURED-LOCATION;VALUE=URI;X-ADDRESS=2 raymond Bank\, Grenoble\,
  38000\, France;X-APPLE-RADIUS=100;X-TITLE=Atelier du 8:geo:0,0
END:VEVENT
BEGIN:VTIMEZONE
TZID:Europe/Paris
X-LIC-LOCATION:Europe/Paris
BEGIN:DAYLIGHT
DTSTART:20260329T030000
TZOFFSETFROM:+0100
TZOFFSETTO:+0200
TZNAME:CEST
END:DAYLIGHT
END:VTIMEZONE
END:VCALENDAR