BEGIN:VCALENDAR
VERSION:2.0
PRODID:-//wp-events-plugin.com//6.6.4.4//EN
TZID:Europe/Paris
X-WR-TIMEZONE:Europe/Paris
BEGIN:VEVENT
UID:766@atelierdu8.fr
DTSTART;TZID=Europe/Paris:20260327T203000
DTEND;TZID=Europe/Paris:20260327T220000
DTSTAMP:20260221T120703Z
URL:https://www.atelierdu8.fr/events/gare-aux-apparences-27-03-2026/
SUMMARY:Gare aux apparences- Les Eclectiks
DESCRIPTION:Nous nous sommes tous déjà demandés à quoi ressemblait la v
 ie de cette personne que l’on croise par hasard…\nNous vous proposons 
 d’embarquer avec nous dans un voyage où l’on confronte nos pensées 
 à la réalité\, nos à priori à la vraie vie.\nOuverture des portes à 
 20h.\n\nBilletterie Helloasso : Gare aux apparences
ATTACH;FMTTYPE=image/jpeg:https://www.atelierdu8.fr/wp-content/uploads/202
 6/02/Gare-apparence-2-logo.png
CATEGORIES:Improvisation,Spectacle
LOCATION:Atelier du 8\, 2 raymond Bank\, Grenoble\, 38000\, France
X-APPLE-STRUCTURED-LOCATION;VALUE=URI;X-ADDRESS=2 raymond Bank\, Grenoble\,
  38000\, France;X-APPLE-RADIUS=100;X-TITLE=Atelier du 8:geo:0,0
END:VEVENT
BEGIN:VTIMEZONE
TZID:Europe/Paris
X-LIC-LOCATION:Europe/Paris
BEGIN:STANDARD
DTSTART:20251026T020000
TZOFFSETFROM:+0200
TZOFFSETTO:+0100
TZNAME:CET
END:STANDARD
END:VTIMEZONE
END:VCALENDAR