BEGIN:VCALENDAR
VERSION:2.0
PRODID:-//wp-events-plugin.com//6.6.4.4//EN
TZID:Europe/Paris
X-WR-TIMEZONE:Europe/Paris
BEGIN:VEVENT
UID:532@atelierdu8.fr
DTSTART;TZID=Europe/Paris:20240427T203000
DTEND;TZID=Europe/Paris:20240427T223000
DTSTAMP:20240204T183116Z
URL:https://www.atelierdu8.fr/events/encore-un-instant-par-la-compagnie-li
 nstant-t/
SUMMARY:Encore un instant - par la Compagnie l'instant T
DESCRIPTION:\nActrice adulée du public\, Suzanne n’est pas remontée sur
 \nscène depuis qu’un événement accidentel a bouleversé sa\nvie. Soll
 icitée par Max qui lui propose sa nouvelle pièce et\nSimon\, son jeune v
 oisin fétichiste\, elle ne fait confiance\nqu’à Julien\, son mari et c
 omplice depuis 30 ans. Fantasme\net réalité s’entremêlent dans cette 
 comédie dramatique\npleine d’humour\, de charme et de tendresse.
ATTACH;FMTTYPE=image/jpeg:https://www.atelierdu8.fr/wp-content/uploads/202
 4/02/AFF_HD_Atelier8_-EUI-27avril2024.jpeg
CATEGORIES:Théâtre
LOCATION:Atelier du 8\, 2 raymond Bank\, Grenoble\, 38000\, France
X-APPLE-STRUCTURED-LOCATION;VALUE=URI;X-ADDRESS=2 raymond Bank\, Grenoble\,
  38000\, France;X-APPLE-RADIUS=100;X-TITLE=Atelier du 8:geo:0,0
END:VEVENT
BEGIN:VTIMEZONE
TZID:Europe/Paris
X-LIC-LOCATION:Europe/Paris
BEGIN:DAYLIGHT
DTSTART:20240331T030000
TZOFFSETFROM:+0100
TZOFFSETTO:+0200
TZNAME:CEST
END:DAYLIGHT
END:VTIMEZONE
END:VCALENDAR