BEGIN:VCALENDAR
VERSION:2.0
PRODID:-//wp-events-plugin.com//6.6.4.4//EN
TZID:Europe/Paris
X-WR-TIMEZONE:Europe/Paris
BEGIN:VEVENT
UID:788@atelierdu8.fr
DTSTART;TZID=Europe/Paris:20260510T150000
DTEND;TZID=Europe/Paris:20260510T160000
DTSTAMP:20260421T222239Z
URL:https://www.atelierdu8.fr/events/boite-a-histoires/
SUMMARY:La boîte à histoires
DESCRIPTION:\nLa boîte à histoires\nUn spectacle improvisé pour et avec 
 les enfants !Quand on ouvre une boîte\, on ne sait jamais ce qu’on y tr
 ouve… Un secret  ? Un jeu ? Une bestiole ? Une histoire ? Venez découv
 rir ce spectacle d’improvisation spécialement conçu pour les enfants\,
  dans lequel ils feront partie intégrante des récits qui se joueront !Po
 ur les enfants de 5 ans à 100 ans !\n\nTarif : \n8 euros \n5 euros réd
 uit (étudiant\, enfant\, demandeurs d'emploi...)\n\n\n\n\nBilletterie Hel
 loAsso à venir
ATTACH;FMTTYPE=image/jpeg:https://www.atelierdu8.fr/wp-content/uploads/202
 6/04/Affiche_boite-a-histoires-1-1-scaled.jpg
CATEGORIES:Enfants,Improvisation,Spectacle
LOCATION:Atelier du 8\, 2 raymond Bank\, Grenoble\, 38000\, France
X-APPLE-STRUCTURED-LOCATION;VALUE=URI;X-ADDRESS=2 raymond Bank\, Grenoble\,
  38000\, France;X-APPLE-RADIUS=100;X-TITLE=Atelier du 8:geo:0,0
END:VEVENT
BEGIN:VTIMEZONE
TZID:Europe/Paris
X-LIC-LOCATION:Europe/Paris
BEGIN:DAYLIGHT
DTSTART:20260329T030000
TZOFFSETFROM:+0100
TZOFFSETTO:+0200
TZNAME:CEST
END:DAYLIGHT
END:VTIMEZONE
END:VCALENDAR