BEGIN:VCALENDAR
VERSION:2.0
PRODID:-//wp-events-plugin.com//6.6.4.4//EN
TZID:Europe/Paris
X-WR-TIMEZONE:Europe/Paris
BEGIN:VEVENT
UID:787@atelierdu8.fr
DTSTART;TZID=Europe/Paris:20260516T200000
DTEND;TZID=Europe/Paris:20260516T230000
DTSTAMP:20260420T163014Z
URL:https://www.atelierdu8.fr/events/5eme-maxi-scene-ouverte-feu-dartifice
 /
SUMMARY:5ème maxi-scène ouverte : feu d'artifice !
DESCRIPTION:Notre concept original\, les scènes ouvertes lancées pour la 
 saison 2023-2024\, se sont toutes jouées à guichet fermé. La 3ème sais
 on a commencé sur les mêmes chapeaux de roues...\n\nPour cette 5ème et 
 dernière de la saison\, vos animateurs survitaminés seront Jeff et Belka
 \, de la fameuse troupe de théâtre de l'Atelier du 8\, Les Mopassanski !
  Ils seront assistés de Nico\, Gaëlle\, Mika et Marie.\n\nPour clore la 
 saison en beauté\, c'est un véritable feu d'artifice qui vous attend... 
 Avec encore plus de rire\, d'émotion\, de musique\, de cascades !\n\nLes 
 scènes ouvertes sont toujours l'occasion pour vous de découvrir des tale
 nts.\nThéâtre\, chansons\, sketches\, clown\, slam et le retour de nos b
 lind tests sont au programme de cette soirée conviviale !\n\nLes scènes 
 ouvertes sont destinées en priorité aux élèves des cours de théâtre 
 et aux adhérents de l'Atelier du 8. Nous accueillons aussi les demandes v
 enant de l'extérieur.\n\nPour tous\, les candidatures sont ouvertes jusqu
 'au 9 Mai 2026. Les candidats sélectionnés seront informés par mail.\n\
 nCe ne sont pas moins de 12 numéros différents  et autant de surprises 
 qui vous sont proposés... En fin de scène ouverte\, nous vous inviterons
  cher Public\, à nous rejoindre sur scène !\n\nPréparez-vous à un vér
 itable feu d'artifice pendant 2 h 30 ! + d'infos.\n\nSamedi 16 Mai à 20 h
  (ouverture des portes dès 19 h 30).\n\n\nLa représentation sera suivie 
 d'un pot : l'occasion de rencontrer et d'échanger avec les artistes !\n\n
 Tarif unique : 5 €\n\nBuvette sur place.\n\nAttention : les places sont 
 en nombre limité et partent très vite. La réservation est obligatoire.\
 nRéservations sur à venir sur Helloasso : Scène ouverte numéro 5\nGre
 noble Culture Spot (11 Déc. 2023) : "2 h 30 de spectacle. Un savoureux m
 élange de rire et d'émotion pour cette nouvelle scène ouverte. On en re
 demande !"\n\nLes Affiches décollées de Grenoble (2 Mars 2024) : "Quelle
  soirée ! Les numéros d'un qualité exceptionnelle\, pour tous les goût
 s. Mention spéciale aux animateurs : hilarants !"\n\nThe Daily Show (2 Av
 ril 2024) : "The scène ouverte is an incredible and original show\, starr
 ing very talented artists. A must-see for everyone !"\n\nIsère Mag Cultur
 e (22 Avril 2024) : "Les scènes ouvertes de l'Atelier du 8 sont un concep
 t original et sont devenues en quelques mois une valeur sûre de la scène
  culturelle Grenobloise. Ne ratez pas la suivante\, les places partent tr
 ès vite." \n\nGrand Avignon TV (14 Juillet 2024) : "Avant de voir L'Affa
 ire de la rue de Lourcine en Avignon\, les scènes ouvertes de l'Atelier d
 u 8 sont un passage incontournable."\n\nCulture Club (21 Octobre 2024) : "
 Une salle remplie. Des prestations excellentes et variées. Quel bonheur d
 e les retrouver : les scènes ouvertes sont à voir et à revoir à l'Atel
 ier du 8."\n\nGrési News (15 Décembre 2025) : "Quelle soirée exceptionn
 elle\, à guichet complet encore ! La scène ouverte spécial Noël transp
 orte le public pendant toute la soirée : rire et émotion sont au rendez-
 vous. A ne pas rater !"\n\nMétro Spectacles &amp\; Co. (24 Février 2026)
  : "Pour passer une soirée mémorable\, rien de tel que d'assister aux ma
 xi-scènes ouvertes de l'Atelier du 8 : le petit théâtre qui joue dans l
 a cour des grands. Bravo !"
ATTACH;FMTTYPE=image/jpeg:https://www.atelierdu8.fr/wp-content/uploads/202
 6/04/Flyer-Scene-Ouverte-160526.png
CATEGORIES:Scène ouverte,Spectacle,Stand-up,Théâtre
LOCATION:Atelier du 8\, 2 raymond Bank\, Grenoble\, 38000\, France
X-APPLE-STRUCTURED-LOCATION;VALUE=URI;X-ADDRESS=2 raymond Bank\, Grenoble\,
  38000\, France;X-APPLE-RADIUS=100;X-TITLE=Atelier du 8:geo:0,0
END:VEVENT
BEGIN:VTIMEZONE
TZID:Europe/Paris
X-LIC-LOCATION:Europe/Paris
BEGIN:DAYLIGHT
DTSTART:20260329T030000
TZOFFSETFROM:+0100
TZOFFSETTO:+0200
TZNAME:CEST
END:DAYLIGHT
END:VTIMEZONE
END:VCALENDAR